BEGIN:VCALENDAR
VERSION:2.0
PRODID:SchoolNow
CALSCALE:GREGORIAN
BEGIN:VEVENT
UID:bd59b0be-3cb8-11f1-9970-0affcc12a99b
DTSTAMP:20260420T190011Z
SUMMARY:Track & Field Practice
URL;VALUE=URI:https://www.rtsd26.org/schools/rtms/calendar/9006899/track-fi
 eld-practice
DTSTART:20260420T200000Z
DTEND:20260420T210000Z
END:VEVENT
END:VCALENDAR
