BEGIN:VCALENDAR
VERSION:2.0
PRODID:SchoolNow
CALSCALE:GREGORIAN
BEGIN:VEVENT
UID:4df7c6cc-fb93-11f0-89d3-0a58a9feac02
DTSTAMP:20260419T113507Z
SUMMARY:Late Arrival Thursday\, March 18
URL;VALUE=URI:https://www.rtsd26.org/schools/pt/calendar/8844790/late-arriv
 al-thursday-march-18
DTSTART;VALUE=DATE:20270318
DTEND;VALUE=DATE:20270319
END:VEVENT
END:VCALENDAR
