BEGIN:VCALENDAR
VERSION:2.0
PRODID:SchoolNow
CALSCALE:GREGORIAN
BEGIN:VEVENT
UID:52d0c496-fb93-11f0-bb60-0e548931f453
DTSTAMP:20260424T132007Z
SUMMARY:Last Day of School- Early Release (If No Emergency Days Used)
URL;VALUE=URI:https://www.rtsd26.org/calendar/8845022/last-day-of-school-ea
 rly-release-if-no-emergency-days-used
DTSTART;VALUE=DATE:20260605
DTEND;VALUE=DATE:20260606
END:VEVENT
END:VCALENDAR
