BEGIN:VCALENDAR
VERSION:2.0
PRODID:SchoolNow
CALSCALE:GREGORIAN
BEGIN:VEVENT
UID:52d09660-fb93-11f0-9741-0e548931f453
DTSTAMP:20260424T132007Z
SUMMARY:Late Arrival Thursday\, May 7\, 2026
URL;VALUE=URI:https://www.rtsd26.org/calendar/8844977/late-arrival-thursday
 -may-7-2026
DTSTART;VALUE=DATE:20260507
DTEND;VALUE=DATE:20260508
END:VEVENT
END:VCALENDAR
