BEGIN:VCALENDAR
VERSION:2.0
PRODID:SchoolNow
CALSCALE:GREGORIAN
BEGIN:VEVENT
UID:e2459eea-2f64-11f0-a220-0a58a9feac02
DTSTAMP:20260425T134008Z
SUMMARY:Board of Education Meeting
LOCATION:RTMS LRC
URL;VALUE=URI:https://www.rtsd26.org/calendar/8120145/board-of-education-me
 eting
DTSTART:20260505T233000Z
DTEND:20260506T023000Z
END:VEVENT
END:VCALENDAR
